BEGIN:VCALENDAR
VERSION:2.0
PRODID:-//shift2bikes.org//NONSGML shiftcal v2.1//EN
METHOD:PUBLISH
X-WR-CALNAME:Shift Community Calendar
X-WR-CALDESC:Find fun bike events all year round.
X-WR-RELCALID:community@shift2bikes.org
BEGIN:VEVENT
UID:event-23497@shift2bikes.org
SUMMARY:Go By Bike Day at Oaks Park!
CONTACT:Daisy Wax - Oaks Park Event Supervisor
DESCRIPTION:Not a group ride!\nCelebrate cycling\, community\, and car-
 free fun at Oaks Park’s first-ever Go By Bike Day! Held in honor of 
 National Ride a Bike Day\, this free\, all-ages event invites Portlanders 
 to hop on their bikes and enjoy a day dedicated to the joy and ease of 
 getting around on two wheels.\n\nThis isn’t a group ride—it’s a vibrant 
 gathering for the cycling community and anyone curious about biking more 
 often. Ride to Oaks Park and be rewarded with exclusive attraction 
 discounts just for arriving by bike!\n\nOnce you’re here\, enjoy free 
 secure bike parking\, free tune-ups from local bike experts\, a DIY bike 
 license plate decoration station and a vendor fair featuring local cycling
  organizations\, artists\, and businesses! \n\nWhether you’re a daily bike
  commuter\, a weekend cruiser\, or just getting started\, Go By Bike Day 
 is all about creating a welcoming\, inclusive space to connect\, learn\, 
 and celebrate sustainable transportation.\n\nBring your friends\, bring 
 your family\, and discover how fun\, accessible\, and cost-effective 
 biking can be. We hope this event inspires you to choose biking not just 
 for the day—but as a lasting way to get to the park\, around the city\, 
 and beyond.\nEvent taking place 12-7 
 PM\nhttps://shift2bikes.org/calendar/event-23497
LOCATION:Oaks Amusement Park\n7805 SE Oaks Park Way Portland\, OR 97202
STATUS:CONFIRMED
DTSTART:20260503T190000Z
DTEND:20260503T200000Z
CREATED:20260411T050339Z
DTSTAMP:20260411T050339Z
SEQUENCE:3
URL:https://shift2bikes.org/calendar/event-23497
END:VEVENT
END:VCALENDAR
