BEGIN:VCALENDAR
VERSION:2.0
PRODID:-//shift2bikes.org//NONSGML shiftcal v2.1//EN
METHOD:PUBLISH
X-WR-CALNAME:Shift Community Calendar
X-WR-CALDESC:Find fun bike events all year round.
X-WR-RELCALID:community@shift2bikes.org
BEGIN:VEVENT
UID:event-23509@shift2bikes.org
SUMMARY:First Friday Art Walk  (bike to art galleries)
CONTACT:Lynn S and Viv
DESCRIPTION:Casual ride to art galleries for the First Friday Art Walk.  
 \n\nFirst Friday Art Walk is a monthly tradition where art galleries stay 
 open late\, bring in artists\, have free food\, and have hands-on arts 
 projects.  http://firstfridaypdx.org/   \n\nBiking is the best way to get 
 around to these wonderful galleries\, as they're spread around inner 
 SE/NE.  We get to 5-8 galleries\, depending on how long our group spends 
 in each gallery.  We don't know exact routes and galleries\, because we 
 decide in the moment.  We'll stay out until ~9:30pm\, then see if folks 
 are up for a group dinner afterwards.  Join for as many galleries as you 
 like\, and leave when you wish.  If you have a sound system bring it! I 
 love music on group bike rides. \n\nRide details: 5-15 minutes of biking 
 between galleries.  Our ride is perfect for new cyclists and families with
  kids.  We'll go at a slow pace so folks can socialize\, and everyone can 
 keep up.  We'll use small neighborhood streets with minimal cars.\nmeet at
  5:45pm\, enjoy 1st gallery for 30 min\, ride at 
 6:15pm\nhttps://shift2bikes.org/calendar/event-23509
LOCATION:Sidestreet Arts (art gallery)\n140 SE 28th Ave\, Portland\, OR 
 97214
STATUS:CONFIRMED
DTSTART:20260502T004500Z
DTEND:20260502T050000Z
CREATED:20260413T122323Z
DTSTAMP:20260413T122323Z
SEQUENCE:5
URL:https://shift2bikes.org/calendar/event-23509
END:VEVENT
END:VCALENDAR
