BEGIN:VCALENDAR
VERSION:2.0
PRODID:-//shift2bikes.org//NONSGML shiftcal v2.1//EN
METHOD:PUBLISH
X-WR-CALNAME:Shift Community Calendar
X-WR-CALDESC:Find fun bike events all year round.
X-WR-RELCALID:community@shift2bikes.org
BEGIN:VEVENT
UID:event-23515@shift2bikes.org
SUMMARY:Kidical Mass - Free Comic Book Day Ride!
CONTACT:Kidical Mass PDX
DESCRIPTION:Free comic books for kids and adults!\nRide bikes around SE 
 Portland with Kidical Mass! \n\nPut on your superhero costume to celebrate
  Free Comic Book Day with a family-friendly bike ride to our favorite 
 comic shop.  \n\nWe’ll ride from the Sunnnyside School playground to Books
  With Pictures across from Abernethy School on neighborhood greenways and 
 quiet streets\, while listening to superhero music. This is a free event\,
  and kids can get free sample comics! But you might want to bring money 
 buy a book or snack at the food cart behind the shop. Your ride leaders 
 will be dressing up as comic book superheros\, but you can also be any 
 kind of comic character or just ride as you are.  \n\nThe ride is a loop\,
  2 miles each way with a break at the comic shop and food carts in the 
 middle\, so it’s suitable for most young bike riders who can pedal their 
 own bike. We ride at a moderate pace for little pedalers and parents on 
 cargo bikes. Kids should wear a helmet\, be able to ride in a straight 
 line without training wheels\, start and stop. Cargo bikes\, tandems\, 
 trailers and tag-a-longs are great for kids who haven’t learned to pedal. 
 Corker are welcome to be a traffic safety superhero.  \n\nWe’ll ride 
 together as a group\, rain or shine\, because kids are traffic 
 too!\n\nRoute: https://ridewithgps.com/routes/46251769\nMeet at 1:00\, 
 ride at 1:15. We will have about 30 minutes at the comic shop and food 
 carts before heading back\nhttps://shift2bikes.org/calendar/event-23515
LOCATION:Sunnyside School Park\nSE 35th & SE Taylor\nSchool playground
STATUS:CONFIRMED
DTSTART:20260502T200000Z
DTEND:20260502T210000Z
CREATED:20260415T113143Z
DTSTAMP:20260415T113143Z
SEQUENCE:4
URL:https://shift2bikes.org/calendar/event-23515
END:VEVENT
END:VCALENDAR
