BEGIN:VCALENDAR
VERSION:2.0
PRODID:-//shift2bikes.org//NONSGML shiftcal v2.1//EN
METHOD:PUBLISH
X-WR-CALNAME:Shift Community Calendar
X-WR-CALDESC:Find fun bike events all year round.
X-WR-RELCALID:community@shift2bikes.org
BEGIN:VEVENT
UID:event-23555@shift2bikes.org
SUMMARY:Mellow Munchies: "Trees Have Coolness" (mellow mondays theme)
CONTACT:Sabs c/o Naked Hearts
DESCRIPTION:It's all the same info as mellow mondays! This is the 
 theme.\n\nI accidentally picked 4/20\, so bring snacks to share and wear 
 your tie-dye\, but please don't smoke in the middle of the 
 group.\n\nPlaylist will obviously have Bob Marley and Sublime\, but also 
 Amadou & Mariam\, Hozier\, Andra Day\, Patrícia Bastos\, Yousef Kekhia. 
 Listen to good vibes and look at a bunch of trees.\n\nPractice consent: 
 ask for permission before touching anyone else or their 
 belongings.\nPractice non-violence: e calm\, kind and respectful with all 
 car interactions.\nmeet at 7\, leave at 7:30 sharp\, for real this time 
 (except not really)\nhttps://shift2bikes.org/calendar/event-23555
LOCATION:Abernathy Primary School\n2421 SE Orange Ave Portland\, OR
STATUS:CONFIRMED
DTSTART:20260421T020000Z
DTEND:20260421T030000Z
CREATED:20260420T103157Z
DTSTAMP:20260420T103157Z
SEQUENCE:9
URL:https://shift2bikes.org/calendar/event-23555
END:VEVENT
END:VCALENDAR
