BEGIN:VCALENDAR
VERSION:2.0
PRODID:-//shift2bikes.org//NONSGML shiftcal v2.1//EN
METHOD:PUBLISH
X-WR-CALNAME:Shift Community Calendar
X-WR-CALDESC:Find fun bike events all year round.
X-WR-RELCALID:community@shift2bikes.org
BEGIN:VEVENT
UID:event-23556@shift2bikes.org
SUMMARY:Pizza week ride!
CONTACT:Sarah and Christine
DESCRIPTION:The 2nd annual pizza week ride\, a ride to celebrate the best 
 week of the year! This ride includes 6 veggie and vegan pizza week stops 
 (some of the stops you can pick either veggie or meat). More info 
 soon!\nMeets at 6 for first pizza slice\, leave at 
 6:30ish\nhttps://shift2bikes.org/calendar/event-23556
LOCATION:Boxcar Pizza\n2701 NE Sandy Blvd\, Portland\, OR 97232
STATUS:CONFIRMED
DTSTART:20260423T010000Z
DTEND:20260423T020000Z
CREATED:20260420T124128Z
DTSTAMP:20260420T124128Z
SEQUENCE:6
URL:https://shift2bikes.org/calendar/event-23556
END:VEVENT
END:VCALENDAR
