BEGIN:VCALENDAR
VERSION:2.0
PRODID:-//shift2bikes.org//NONSGML shiftcal v2.1//EN
METHOD:PUBLISH
X-WR-CALNAME:Shift Community Calendar
X-WR-CALDESC:Find fun bike events all year round.
X-WR-RELCALID:community@shift2bikes.org
BEGIN:VEVENT
UID:event-23559@shift2bikes.org
SUMMARY:A Wheelie Fun Bike Ride
CONTACT:Clare O'Bryan and Vanessa Ku
DESCRIPTION:COME RIDE WITH WHEELIEBADIDEA! we’re leading our first group 
 bike ride!!\n\nthursday\, april 30th\nmeet us at @5:30\, 
 @somethingcycles\n\ncome mosey with us to Ranch Pizza SE and meet some new
  friends. we’ll be making our way down to SE via the Springwater Corridor 
 for some pizza and end the ride back at Something Cycles! we’ll go over 
 some group riding etiquette as well!\n\nall are welcome :) this is a no 
 drop because yappers stick together 🤝 🌟\n\nthere will be snacks 👀 (and 
 we ain’t talking about us 🤪)\nMeet up at 5:30pm\, roll out at 
 5:45pm!\nhttps://shift2bikes.org/calendar/event-23559
LOCATION:Something Cycles\n811 E Burnside St #110\, Portland\, OR 97214
STATUS:CONFIRMED
DTSTART:20260501T003000Z
DTEND:20260501T023000Z
CREATED:20260420T233712Z
DTSTAMP:20260420T233712Z
SEQUENCE:4
URL:https://shift2bikes.org/calendar/event-23559
END:VEVENT
END:VCALENDAR
