BEGIN:VCALENDAR
VERSION:2.0
PRODID:-//shift2bikes.org//NONSGML shiftcal v2.1//EN
METHOD:PUBLISH
X-WR-CALNAME:Shift Community Calendar
X-WR-CALDESC:Find fun bike events all year round.
X-WR-RELCALID:community@shift2bikes.org
BEGIN:VEVENT
UID:event-23564@shift2bikes.org
SUMMARY:The Terminator Ride
CONTACT:@chefjosefa and @nakedhearts:pdx
DESCRIPTION:“ The future’s not set. There’s no fate but what we make for 
 ourselves.” - John Connor\n\nThe future is now\, and just perhaps\, we are
  being taken over by the machines? \nTonight let’s rise up and show them 
 what our wheels are made of. We’ll explore themes from the 1984 Terminator
  movie. Expect dark synth vibes\, visits to location themes from the 
 film\, games/trivia\, and perhaps a little mayhem…who knows how we might 
 affect the time continuum.\nRide leaves at 
 7:30\nhttps://shift2bikes.org/calendar/event-23564
LOCATION:Abernathy School\n2421 SE Orange Ave
STATUS:CONFIRMED
DTSTART:20260428T020000Z
DTEND:20260428T030000Z
CREATED:20260421T072713Z
DTSTAMP:20260421T072713Z
SEQUENCE:7
URL:https://shift2bikes.org/calendar/event-23564
END:VEVENT
END:VCALENDAR
