BEGIN:VCALENDAR
VERSION:2.0
PRODID:-//shift2bikes.org//NONSGML shiftcal v2.1//EN
METHOD:PUBLISH
X-WR-CALNAME:Shift Community Calendar
X-WR-CALDESC:Find fun bike events all year round.
X-WR-RELCALID:community@shift2bikes.org
BEGIN:VEVENT
UID:event-23565@shift2bikes.org
SUMMARY:ALL OUT FOR MAY DAY! Rally & March to ICE
CONTACT:Portland Contra las Deportaciones
DESCRIPTION:ALL OUT FOR MAYDAY!! Join us to celebrate this workers' 
 holiday with a rally and march to the ICE facility. We remember the May 
 Day martyrs\, immigrants who died fighting for workers' rights. ¡El pueblo
  unido jamás será vencido!\nhttps://shift2bikes.org/calendar/event-23565
LOCATION:Elizabeth Caruthers Park\n3805 SW Moody Ave Portland\, OR
STATUS:CONFIRMED
DTSTART:20260502T010000Z
DTEND:20260502T020000Z
CREATED:20260420T075816Z
DTSTAMP:20260420T075816Z
SEQUENCE:6
URL:https://shift2bikes.org/calendar/event-23565
END:VEVENT
END:VCALENDAR
