BEGIN:VCALENDAR
VERSION:2.0
PRODID:-//shift2bikes.org//NONSGML shiftcal v2.1//EN
METHOD:PUBLISH
X-WR-CALNAME:Shift Community Calendar
X-WR-CALDESC:Find fun bike events all year round.
X-WR-RELCALID:community@shift2bikes.org
BEGIN:VEVENT
UID:event-23570@shift2bikes.org
SUMMARY:(NakedHearts:PDX) Ride to the House Of Dreams (no kill) Cat 
 shelters vegan bake and plant sale.
CONTACT:NakedHearts:PDX (Moorland leads)
DESCRIPTION:Ride will be very gentle with cat and vegan and plant based 
 music.\nTaking a gentle ride up to the HOD vegan bake and plant sale. 
 \nLooking too arrive around 3:00pm\,\nHang out for about 30 mins and then 
 ride to the start of the Pizza Week ride.\nLeaves for 2:15\nEnds at We end
  at the Pizza Week ride\nhttps://shift2bikes.org/calendar/event-23570
LOCATION:Sunny Side School park\nSE 34th Ave & SE Taylor St Portland\, OR
   97214 United States
STATUS:CONFIRMED
DTSTART:20260425T204500Z
DTEND:20260425T214500Z
CREATED:20260422T005803Z
DTSTAMP:20260422T005803Z
SEQUENCE:3
URL:https://shift2bikes.org/calendar/event-23570
END:VEVENT
END:VCALENDAR
