BEGIN:VCALENDAR
VERSION:2.0
PRODID:-//shift2bikes.org//NONSGML shiftcal v2.1//EN
METHOD:PUBLISH
X-WR-CALNAME:Shift Community Calendar
X-WR-CALDESC:Find fun bike events all year round.
X-WR-RELCALID:community@shift2bikes.org
BEGIN:VEVENT
UID:event-23571@shift2bikes.org
SUMMARY:Ride to Original Dream Pizza Pizza for Pizza Week and where DJ 
 LO.PDX is playing
CONTACT:NakedHearts:PDX (Moorland leads)
DESCRIPTION:Ride the HOD ride then this ride to grab pizza and here local 
 DJ LO.PDX play\nMore details TBD but this ride picks up after the HOD ride
  at Sunny side park.\nRide picks up after the HOD ride\nEnds at Ride stops
  for a while for pizza and to hear DJ Lo.PDX then continues 
 probably\nhttps://shift2bikes.org/calendar/event-23571
LOCATION:Sunnyside school\nSE 34th Ave & SE Taylor St Portland\, OR  97214
  United States
STATUS:CONFIRMED
DTSTART:20260425T231500Z
DTEND:20260426T001500Z
CREATED:20260422T010415Z
DTSTAMP:20260422T010415Z
SEQUENCE:7
URL:https://shift2bikes.org/calendar/event-23571
END:VEVENT
END:VCALENDAR
