BEGIN:VCALENDAR
VERSION:2.0
PRODID:-//shift2bikes.org//NONSGML shiftcal v2.1//EN
METHOD:PUBLISH
X-WR-CALNAME:Shift Community Calendar
X-WR-CALDESC:Find fun bike events all year round.
X-WR-RELCALID:community@shift2bikes.org
BEGIN:VEVENT
UID:event-23572@shift2bikes.org
SUMMARY:City Bike Bus - Earth Day
CONTACT:Portland Bureau of Transportation
DESCRIPTION:Commute with the City Bike Bus on Earth Day\, Wednesday\, 
 April 22!\n\nHop on your bicycle and join us on one of eight unique bike 
 bus routes coming from all over the city into downtown. All bike bus ride 
 leaders will have a pink vest and a bright lime green bandana tied to 
 their handle bars for easy identification. At the end of the ride\, we’ll 
 all gather at Salmon Street Springs for a group photo at 8:15 a.m. and 
 enjoy coffee\, treats\, and music! \n\nWe'll also provide information on 
 how to get involved with Bike Month\, a month-long celebration of cycling 
 all throughout May\, where you can earn prizes just for riding your bike! 
 Find out more about how you can take part in upcoming Bike Month events at
  portland.gov/transportation/walking-biking-transit-safety/bike-month-
 2026\n\nText "City Bike Bus" to 888-520-0526 to receive monthly Bike Bus 
 reminders!\nFor more info on the routes and start times\, visit 
 portland.gov/BikeBus\nEnds at All routes will arrive to Salmon Street 
 Springs at 8:15 a.m.\nhttps://shift2bikes.org/calendar/event-23572
LOCATION:Gather at Salmon Street Springs\n1000 SW Naito Pkwy\, Portland\, 
 OR 97204
STATUS:CONFIRMED
DTSTART:20260422T141500Z
DTEND:20260422T151500Z
CREATED:20260422T015835Z
DTSTAMP:20260422T015835Z
SEQUENCE:3
URL:https://shift2bikes.org/calendar/event-23572
END:VEVENT
END:VCALENDAR
