BEGIN:VCALENDAR
VERSION:2.0
PRODID:-//shift2bikes.org//NONSGML shiftcal v2.1//EN
METHOD:PUBLISH
X-WR-CALNAME:Shift Community Calendar
X-WR-CALDESC:Find fun bike events all year round.
X-WR-RELCALID:community@shift2bikes.org
BEGIN:VEVENT
UID:event-23576@shift2bikes.org
SUMMARY:Beaverton Foodie Bike Ride
CONTACT:Five Oaks Triple Creek Neighborhood Association
DESCRIPTION:Beaverton Neighborhood Foodie Bike Ride\nSaturday\, May 2\, 
 2026\n12:00 PM - 1:00 PM\nMeet at the Tualatin Hills Nature Center\n6 
 Miles Roundtrip\, Out and Back\n\nNorth Beaverton is lucky to have dozens 
 of delicious local restaurants\, all within easy biking distance from the 
 Powerline Trail. The Five Oaks Triple Creek Neighborhood is hosting a 
 relaxed group bike ride along the Beaverton Powerline Trail\, highlighting
  some of these eateries along the way. While we will not be stopping to 
 eat at any of the restaurants as a group\, we encourage riders to return 
 to any of them after the ride for lunch. Plus\, we'll have free 
 pastries!\n\nThe majority of the ride will be on the Powerline Trail\, 
 with the route deviating a block or two to visit a few different clustered
  restaurant locations. The route will start and end at the Tualatin Hills 
 Nature Center. We will not be biking on any major roads. We will follow a 
 route that prioritizes using calmer roads to show our neighbors and fellow
  foodies how easy it can be to bike around the neighborhood. This is a 
 great ride for everyone\, including families\, people new to cycling\, or 
 seasoned pros!\n\nWe hope you’ll join us for a spin around the 
 neighborhood and the chance to find your new favorite 
 lunch/dinner/breakfast/brunch/snack spot close to home!\nEnds at This ride
  is out and back\, making it easy to turn around if you don't want to 
 finish the whole ride\nhttps://shift2bikes.org/calendar/event-23576
LOCATION:Tualatin Hills Nature Center\n15655 SW Millikan Way Beaverton\, 
 OR 97003\nMeet at the bike racks
STATUS:CONFIRMED
DTSTART:20260502T190000Z
DTEND:20260502T200000Z
CREATED:20260422T110648Z
DTSTAMP:20260422T110648Z
SEQUENCE:4
URL:https://shift2bikes.org/calendar/event-23576
END:VEVENT
END:VCALENDAR
