BEGIN:VCALENDAR
VERSION:2.0
PRODID:-//shift2bikes.org//NONSGML shiftcal v2.1//EN
METHOD:PUBLISH
X-WR-CALNAME:Shift Community Calendar
X-WR-CALDESC:Find fun bike events all year round.
X-WR-RELCALID:community@shift2bikes.org
BEGIN:VEVENT
UID:event-23577@shift2bikes.org
SUMMARY:RideWestside - Popup Ride to Tigard Bike Happy Hour
CONTACT:Ride Westside
DESCRIPTION:Join Ride Westside as we ride from Beaverton Central to Cooper
  Mountain Ale Works in Tigard to support Shawne's Tigard Bike Happy Hour! 
 This is a no-drop social ride aiming for ~10 mile/hour pace. We will 
 explore an alternative route that bypasses the Fanno Creek Trail and all 
 of its myriad obstacles (pedestrians\, high water levels\, roots\, and 
 ducks). Come join for good times\, bike friends and south Beaverton / 
 Tigard side street exploration!\n\n(Unfortunately\, this will involve 
 taking the lane on a few busy roads\, namely the Southwest Hall Boulevard 
 Highway 217 overpass. We've tried to plan our route to avoid these types 
 of roads to the extent possible).\n\nRWGPS Route Link (subject to 
 adjustment): https://ridewithgps.com/routes/54760316\nLink to the Tigard 
 Bike Happy Hour event: https://www.shift2bikes.org/calendar/event-
 23160\nMeet at 5:30\, ride at 5:45\nEnds at The Round\, Beaverton 
 Central\nhttps://shift2bikes.org/calendar/event-23577
LOCATION:The Round\, Beaverton Central\n12725 SW Millikan Way\, 
 Beaverton\, OR 97005\nMeet at the Blue Pole by the Beaverton Central Max 
 station
STATUS:CONFIRMED
DTSTART:20260424T003000Z
DTEND:20260424T013000Z
CREATED:20260422T123029Z
DTSTAMP:20260422T123029Z
SEQUENCE:3
URL:https://shift2bikes.org/calendar/event-23577
END:VEVENT
END:VCALENDAR
