BEGIN:VCALENDAR
VERSION:2.0
PRODID:-//shift2bikes.org//NONSGML shiftcal v2.1//EN
METHOD:PUBLISH
X-WR-CALNAME:Shift Community Calendar
X-WR-CALDESC:Find fun bike events all year round.
X-WR-RELCALID:community@shift2bikes.org
BEGIN:VEVENT
UID:event-23578@shift2bikes.org
SUMMARY:King Farmer's Market Ride
CONTACT:Team Apuggalypse
DESCRIPTION:Ride to King Farmers Market at Martin Luther King Jr 
 Elementary School to enjoy the fruits of our farmer friends\, support 
 local food systems and get to meet and know your community!\n\nStarting at
  Wilshire parks we will take Mason Bike Lane to 32nd to Going Greenways to
  get to the Farmer's market. \n\nThis is a Bike Bus style ride so hop on 
 where and when you can anywhere along the way!\n\nLeaving Wilshire Park 
 from 37th & Skidmore at 
 10:30\n\nhttps://www.portlandfarmersmarket.org/our-markets/king/\nMeet at 
 10:15 Ride at 10:30\nEnds at King Farmer's Market\; NE 7th Ave & 
 Wygant\nhttps://shift2bikes.org/calendar/event-23578
LOCATION:Wilshire Park\n37th & Skidmore\nLook for Pugs with Bikes on 
 Skidmore between 36th & 37th
STATUS:CONFIRMED
DTSTART:20260503T171500Z
DTEND:20260503T181500Z
CREATED:20260422T211337Z
DTSTAMP:20260422T211337Z
SEQUENCE:4
URL:https://shift2bikes.org/calendar/event-23578
END:VEVENT
END:VCALENDAR
