BEGIN:VCALENDAR
VERSION:2.0
PRODID:-//shift2bikes.org//NONSGML shiftcal v2.1//EN
METHOD:PUBLISH
X-WR-CALNAME:Shift Community Calendar
X-WR-CALDESC:Find fun bike events all year round.
X-WR-RELCALID:community@shift2bikes.org
BEGIN:VEVENT
UID:event-23631@shift2bikes.org
SUMMARY:Taylor's Bike Army Birthday Ride
CONTACT:Taylor Pasquariello
DESCRIPTION:Bike army birthday social ride Saturday.  \n \nThis is for 
 everyone\, I love the bike culture in Portland and for my birthday I'm 
 building a bike army social ride.  Come join the fun.\n\nIll be starting 
 in Milwaukie at 5pm on Saturday April 25th at the Johnson Creek Max 
 station.  That way anyone that wants to do the longer route has a train 
 option.   It's also right on the springwater.  This ride is a social pace 
 meant to be inclusive to all riders\, see some friends or meet new people.
    Bring any of your friends that you want along.  The goal is to build 
 out a big bike mob!\n\nWe will head north along the spring water towards 
 downtown collecting anyone else that wants to join.  Send me a message if 
 you want to be included in a launch text so you can plan joining along the
  route. \n\nWe will cross the tilikum bridge and head towards thurman.   
 Once on Thurman we will cut to Forrest Park and take a brief break at the 
 Leif Erickson trailhead around 545-6pm to collect riders that want to just
  join for a shorter stint.   \n\nWe will ride to the picnic tables then 
 back. (Still thinking of a small activity at the picnic tables before 
 heading back). After Forrest Park we will head to Lazy Days Brewing across
  from Lillis Albina Park.\n\nPlease feel free to join for portions or the 
 entire thing!   Costumes\, fun clothes and glitter encouraged but 
 certainly not required! Tell your friends\, being along as many people as 
 you want and I look forward to seeing you there!\nEnds at Lazy day 
 brewing\nhttps://shift2bikes.org/calendar/event-23631
LOCATION:Johnson Creek Max station\n3800 Southeast Olsen Street\nWe will 
 be starting in the max station parking lot in order to let people using 
 public transit to meet us.   We will also have a secondary location to 
 pick people up at Leif Erickson trail head on thurman at 6pm to ride to 
 the first picnic tables and back
STATUS:CONFIRMED
DTSTART:20260426T000000Z
DTEND:20260426T010000Z
CREATED:20260425T142720Z
DTSTAMP:20260425T142720Z
SEQUENCE:3
URL:https://shift2bikes.org/calendar/event-23631
END:VEVENT
END:VCALENDAR
